{
 "currentVersion": 11.5,
 "serviceDescription": "DynamicMaps/DEM2013Hillshade",
 "serviceItemId": "03e463c56503425bb55fb8f383ffd446",
 "name": "DynamicMaps/DEM2013Hillshade",
 "description": "",
 "extent": {
  "xmin": 294998.72846992314,
  "ymin": 79999.69268366694,
  "xmax": 584998.7284699231,
  "ymax": 249999.69268366694,
  "spatialReference": {
   "wkt2": "COMPOUNDCRS[\"\",PROJCRS[\"NAD_1983_HARN_WISCRS_Vilas_County_Feet\",BASEGEOGCRS[\"GCS_North_American_1983_HARN\",DATUM[\"D_North_American_1983_HARN\",ELLIPSOID[\"GRS_1980\",6378137.0,298.257222101,LENGTHUNIT[\"Meter\",1.0]]],PRIMEM[\"Greenwich\",0.0,ANGLEUNIT[\"Degree\",0.0174532925199433]],CS[ellipsoidal,2],AXIS[\"Latitude (lat)\",north,ORDER[1]],AXIS[\"Longitude (lon)\",east,ORDER[2]],ANGLEUNIT[\"Degree\",0.0174532925199433]],CONVERSION[\"Lambert_Conformal_Conic\",METHOD[\"Lambert_Conformal_Conic\"],PARAMETER[\"False_Easting\",441000.0,LENGTHUNIT[\"Foot_US\",0.3048006096012192]],PARAMETER[\"False_Northing\",165147.666,LENGTHUNIT[\"Foot_US\",0.3048006096012192]],PARAMETER[\"Central_Meridian\",-89.48888888888889,ANGLEUNIT[\"Degree\",0.0174532925199433]],PARAMETER[\"Standard_Parallel_1\",46.07784409055556,ANGLEUNIT[\"Degree\",0.0174532925199433]],PARAMETER[\"Scale_Factor\",1.0000730142,SCALEUNIT[\"Unity\",1.0]],PARAMETER[\"Latitude_Of_Origin\",46.07784409055556,ANGLEUNIT[\"Degree\",0.0174532925199433]]],CS[Cartesian,2],AXIS[\"Easting (X)\",east,ORDER[1]],AXIS[\"Northing (Y)\",north,ORDER[2]],LENGTHUNIT[\"Foot_US\",0.3048006096012192]],VERTCRS[\"NAVD_1988\",VDATUM[\"North_American_Vertical_Datum_1988\"],CS[vertical,1],AXIS[\"Gravity-related height (H)\",up,LENGTHUNIT[\"Foot_US\",0.3048006096012192]]]]",
   "wkt": "PROJCS[\"NAD_1983_HARN_WISCRS_Vilas_County_Feet\",GEOGCS[\"GCS_North_American_1983_HARN\",DATUM[\"D_North_American_1983_HARN\",SPHEROID[\"GRS_1980\",6378137.0,298.257222101]],PRIMEM[\"Greenwich\",0.0],UNIT[\"Degree\",0.0174532925199433]],PROJECTION[\"Lambert_Conformal_Conic\"],PARAMETER[\"False_Easting\",441000.0],PARAMETER[\"False_Northing\",165147.666],PARAMETER[\"Central_Meridian\",-89.48888888888889],PARAMETER[\"Standard_Parallel_1\",46.07784409055556],PARAMETER[\"Scale_Factor\",1.0000730142],PARAMETER[\"Latitude_Of_Origin\",46.07784409055556],UNIT[\"Foot_US\",0.3048006096012192]],VERTCS[\"NAVD_1988\",VDATUM[\"North_American_Vertical_Datum_1988\"],PARAMETER[\"Vertical_Shift\",0.0],PARAMETER[\"Direction\",1.0],UNIT[\"Foot_US\",0.3048006096012192]]"
  }
 },
 "initialExtent": {
  "xmin": 294998.72846992314,
  "ymin": 79999.69268366694,
  "xmax": 584998.7284699231,
  "ymax": 249999.69268366694,
  "spatialReference": {
   "wkt2": "COMPOUNDCRS[\"\",PROJCRS[\"NAD_1983_HARN_WISCRS_Vilas_County_Feet\",BASEGEOGCRS[\"GCS_North_American_1983_HARN\",DATUM[\"D_North_American_1983_HARN\",ELLIPSOID[\"GRS_1980\",6378137.0,298.257222101,LENGTHUNIT[\"Meter\",1.0]]],PRIMEM[\"Greenwich\",0.0,ANGLEUNIT[\"Degree\",0.0174532925199433]],CS[ellipsoidal,2],AXIS[\"Latitude (lat)\",north,ORDER[1]],AXIS[\"Longitude (lon)\",east,ORDER[2]],ANGLEUNIT[\"Degree\",0.0174532925199433]],CONVERSION[\"Lambert_Conformal_Conic\",METHOD[\"Lambert_Conformal_Conic\"],PARAMETER[\"False_Easting\",441000.0,LENGTHUNIT[\"Foot_US\",0.3048006096012192]],PARAMETER[\"False_Northing\",165147.666,LENGTHUNIT[\"Foot_US\",0.3048006096012192]],PARAMETER[\"Central_Meridian\",-89.48888888888889,ANGLEUNIT[\"Degree\",0.0174532925199433]],PARAMETER[\"Standard_Parallel_1\",46.07784409055556,ANGLEUNIT[\"Degree\",0.0174532925199433]],PARAMETER[\"Scale_Factor\",1.0000730142,SCALEUNIT[\"Unity\",1.0]],PARAMETER[\"Latitude_Of_Origin\",46.07784409055556,ANGLEUNIT[\"Degree\",0.0174532925199433]]],CS[Cartesian,2],AXIS[\"Easting (X)\",east,ORDER[1]],AXIS[\"Northing (Y)\",north,ORDER[2]],LENGTHUNIT[\"Foot_US\",0.3048006096012192]],VERTCRS[\"NAVD_1988\",VDATUM[\"North_American_Vertical_Datum_1988\"],CS[vertical,1],AXIS[\"Gravity-related height (H)\",up,LENGTHUNIT[\"Foot_US\",0.3048006096012192]]]]",
   "wkt": "PROJCS[\"NAD_1983_HARN_WISCRS_Vilas_County_Feet\",GEOGCS[\"GCS_North_American_1983_HARN\",DATUM[\"D_North_American_1983_HARN\",SPHEROID[\"GRS_1980\",6378137.0,298.257222101]],PRIMEM[\"Greenwich\",0.0],UNIT[\"Degree\",0.0174532925199433]],PROJECTION[\"Lambert_Conformal_Conic\"],PARAMETER[\"False_Easting\",441000.0],PARAMETER[\"False_Northing\",165147.666],PARAMETER[\"Central_Meridian\",-89.48888888888889],PARAMETER[\"Standard_Parallel_1\",46.07784409055556],PARAMETER[\"Scale_Factor\",1.0000730142],PARAMETER[\"Latitude_Of_Origin\",46.07784409055556],UNIT[\"Foot_US\",0.3048006096012192]],VERTCS[\"NAVD_1988\",VDATUM[\"North_American_Vertical_Datum_1988\"],PARAMETER[\"Vertical_Shift\",0.0],PARAMETER[\"Direction\",1.0],UNIT[\"Foot_US\",0.3048006096012192]]"
  }
 },
 "fullExtent": {
  "xmin": 294998.72846992314,
  "ymin": 79999.69268366694,
  "xmax": 584998.7284699231,
  "ymax": 249999.69268366694,
  "spatialReference": {
   "wkt2": "COMPOUNDCRS[\"\",PROJCRS[\"NAD_1983_HARN_WISCRS_Vilas_County_Feet\",BASEGEOGCRS[\"GCS_North_American_1983_HARN\",DATUM[\"D_North_American_1983_HARN\",ELLIPSOID[\"GRS_1980\",6378137.0,298.257222101,LENGTHUNIT[\"Meter\",1.0]]],PRIMEM[\"Greenwich\",0.0,ANGLEUNIT[\"Degree\",0.0174532925199433]],CS[ellipsoidal,2],AXIS[\"Latitude (lat)\",north,ORDER[1]],AXIS[\"Longitude (lon)\",east,ORDER[2]],ANGLEUNIT[\"Degree\",0.0174532925199433]],CONVERSION[\"Lambert_Conformal_Conic\",METHOD[\"Lambert_Conformal_Conic\"],PARAMETER[\"False_Easting\",441000.0,LENGTHUNIT[\"Foot_US\",0.3048006096012192]],PARAMETER[\"False_Northing\",165147.666,LENGTHUNIT[\"Foot_US\",0.3048006096012192]],PARAMETER[\"Central_Meridian\",-89.48888888888889,ANGLEUNIT[\"Degree\",0.0174532925199433]],PARAMETER[\"Standard_Parallel_1\",46.07784409055556,ANGLEUNIT[\"Degree\",0.0174532925199433]],PARAMETER[\"Scale_Factor\",1.0000730142,SCALEUNIT[\"Unity\",1.0]],PARAMETER[\"Latitude_Of_Origin\",46.07784409055556,ANGLEUNIT[\"Degree\",0.0174532925199433]]],CS[Cartesian,2],AXIS[\"Easting (X)\",east,ORDER[1]],AXIS[\"Northing (Y)\",north,ORDER[2]],LENGTHUNIT[\"Foot_US\",0.3048006096012192]],VERTCRS[\"NAVD_1988\",VDATUM[\"North_American_Vertical_Datum_1988\"],CS[vertical,1],AXIS[\"Gravity-related height (H)\",up,LENGTHUNIT[\"Foot_US\",0.3048006096012192]]]]",
   "wkt": "PROJCS[\"NAD_1983_HARN_WISCRS_Vilas_County_Feet\",GEOGCS[\"GCS_North_American_1983_HARN\",DATUM[\"D_North_American_1983_HARN\",SPHEROID[\"GRS_1980\",6378137.0,298.257222101]],PRIMEM[\"Greenwich\",0.0],UNIT[\"Degree\",0.0174532925199433]],PROJECTION[\"Lambert_Conformal_Conic\"],PARAMETER[\"False_Easting\",441000.0],PARAMETER[\"False_Northing\",165147.666],PARAMETER[\"Central_Meridian\",-89.48888888888889],PARAMETER[\"Standard_Parallel_1\",46.07784409055556],PARAMETER[\"Scale_Factor\",1.0000730142],PARAMETER[\"Latitude_Of_Origin\",46.07784409055556],UNIT[\"Foot_US\",0.3048006096012192]],VERTCS[\"NAVD_1988\",VDATUM[\"North_American_Vertical_Datum_1988\"],PARAMETER[\"Vertical_Shift\",0.0],PARAMETER[\"Direction\",1.0],UNIT[\"Foot_US\",0.3048006096012192]]"
  }
 },
 "sortableFields": "",
 "heightModelInfo": {
  "heightModel": "gravity_related_height",
  "vertCRS": "NAVD_1988",
  "heightUnit": "us-foot"
 },
 "bandCount": 1,
 "pixelType": "U8",
 "minValues": [
  0
 ],
 "maxValues": [
  254
 ],
 "meanValues": [
  175.33407582089038
 ],
 "stdvValues": [
  29.430262078371662
 ],
 "serviceProperties": "Center<\/MosaicMethod>First<\/MosaicOperator>true<\/SortAscending><\/LockImageID><\/TileOrderField>0<\/TileOrderBase>0.000000<\/AvgImageSpacingX>0.000000<\/AvgImageSpacingY>0.0<\/ViewPointX>0.0<\/ViewPointY>0.0<\/ViewPointDefShiftX>0.0<\/ViewPointDefShiftY>None<\/CompressionMethod>75<\/CompressionQuality>0.010000<\/CompressionTolerance>Bilinear<\/SamplingMethod><\/ImageServiceProperties><\/ImageServer>",
 "allowedFields": "",
 "hasMultidimensions": false,
 "pixelSizeX": 3.125,
 "pixelSizeY": 3.125,
 "meanPixelSize": 0.9525019050038102,
 "datasetFormat": "FGDBR",
 "uncompressedSize": 5048320000,
 "blockWidth": 128,
 "blockHeight": 128,
 "compressionType": "LZ77",
 "bandNames": [
  "Band_1"
 ],
 "allowCopy": true,
 "allowAnalysis": true,
 "itemAccess": false,
 "inspectionCapabilities": "",
 "minPixelSize": 0,
 "maxPixelSize": 0,
 "copyrightText": "",
 "serviceDataType": "esriImageServiceDataTypeGeneric",
 "serviceSourceType": "esriImageServiceSourceTypeDataset",
 "objectIdField": "",
 "fields": [],
 "capabilities": "Image,Metadata,Mensuration",
 "defaultMosaicMethod": "Center",
 "allowedMosaicMethods": "",
 "sortField": "",
 "sortValue": null,
 "sortAscending": true,
 "mosaicOperator": "First",
 "defaultCompressionQuality": 75,
 "defaultResamplingMethod": "Bilinear",
 "maxImageHeight": 4100,
 "maxImageWidth": 15000,
 "allowRasterFunction": true,
 "rasterFunctionInfos": [
  {
   "name": "None",
   "description": "",
   "help": ""
  }
 ],
 "rasterTypeInfos": [
  {
   "name": "Raster Dataset",
   "description": "Supports all ArcGIS Raster Datasets",
   "help": ""
  }
 ],
 "mensurationCapabilities": "Basic",
 "hasHistograms": true,
 "hasColormap": false,
 "hasRasterAttributeTable": true,
 "minScale": 0,
 "maxScale": 0,
 "exportTilesAllowed": false,
 "supportsStatistics": false,
 "supportsAdvancedQueries": false,
 "editFieldsInfo": null,
 "ownershipBasedAccessControlForRasters": null,
 "allowComputeTiePoints": false,
 "useStandardizedQueries": true,
 "advancedQueryCapabilities": {
  "useStandardizedQueries": true,
  "supportsStatistics": false,
  "supportsOrderBy": false,
  "supportsDistinct": false,
  "supportsPagination": false
 },
 "spatialReference": {
  "wkt2": "COMPOUNDCRS[\"\",PROJCRS[\"NAD_1983_HARN_WISCRS_Vilas_County_Feet\",BASEGEOGCRS[\"GCS_North_American_1983_HARN\",DATUM[\"D_North_American_1983_HARN\",ELLIPSOID[\"GRS_1980\",6378137.0,298.257222101,LENGTHUNIT[\"Meter\",1.0]]],PRIMEM[\"Greenwich\",0.0,ANGLEUNIT[\"Degree\",0.0174532925199433]],CS[ellipsoidal,2],AXIS[\"Latitude (lat)\",north,ORDER[1]],AXIS[\"Longitude (lon)\",east,ORDER[2]],ANGLEUNIT[\"Degree\",0.0174532925199433]],CONVERSION[\"Lambert_Conformal_Conic\",METHOD[\"Lambert_Conformal_Conic\"],PARAMETER[\"False_Easting\",441000.0,LENGTHUNIT[\"Foot_US\",0.3048006096012192]],PARAMETER[\"False_Northing\",165147.666,LENGTHUNIT[\"Foot_US\",0.3048006096012192]],PARAMETER[\"Central_Meridian\",-89.48888888888889,ANGLEUNIT[\"Degree\",0.0174532925199433]],PARAMETER[\"Standard_Parallel_1\",46.07784409055556,ANGLEUNIT[\"Degree\",0.0174532925199433]],PARAMETER[\"Scale_Factor\",1.0000730142,SCALEUNIT[\"Unity\",1.0]],PARAMETER[\"Latitude_Of_Origin\",46.07784409055556,ANGLEUNIT[\"Degree\",0.0174532925199433]]],CS[Cartesian,2],AXIS[\"Easting (X)\",east,ORDER[1]],AXIS[\"Northing (Y)\",north,ORDER[2]],LENGTHUNIT[\"Foot_US\",0.3048006096012192]],VERTCRS[\"NAVD_1988\",VDATUM[\"North_American_Vertical_Datum_1988\"],CS[vertical,1],AXIS[\"Gravity-related height (H)\",up,LENGTHUNIT[\"Foot_US\",0.3048006096012192]]]]",
  "wkt": "PROJCS[\"NAD_1983_HARN_WISCRS_Vilas_County_Feet\",GEOGCS[\"GCS_North_American_1983_HARN\",DATUM[\"D_North_American_1983_HARN\",SPHEROID[\"GRS_1980\",6378137.0,298.257222101]],PRIMEM[\"Greenwich\",0.0],UNIT[\"Degree\",0.0174532925199433]],PROJECTION[\"Lambert_Conformal_Conic\"],PARAMETER[\"False_Easting\",441000.0],PARAMETER[\"False_Northing\",165147.666],PARAMETER[\"Central_Meridian\",-89.48888888888889],PARAMETER[\"Standard_Parallel_1\",46.07784409055556],PARAMETER[\"Scale_Factor\",1.0000730142],PARAMETER[\"Latitude_Of_Origin\",46.07784409055556],UNIT[\"Foot_US\",0.3048006096012192]],VERTCS[\"NAVD_1988\",VDATUM[\"North_American_Vertical_Datum_1988\"],PARAMETER[\"Vertical_Shift\",0.0],PARAMETER[\"Direction\",1.0],UNIT[\"Foot_US\",0.3048006096012192]]"
 }
}
